BEGIN:VCALENDAR
VERSION:2.0
PRODID:-//ChamberMaster//Event Calendar 2.0//EN
METHOD:PUBLISH
X-PUBLISHED-TTL:P1H
REFRESH-INTERVAL:P1H
CALSCALE:GREGORIAN
BEGIN:VTIMEZONE
TZID:America/Chicago
BEGIN:DAYLIGHT
RRULE:FREQ=YEARLY;BYMONTH=3;BYDAY=2SU
DTSTART:20070101T000000
TZOFFSETFROM:-0600
TZOFFSETTO:-0500
TZNAME:Central Daylight Time
END:DAYLIGHT
BEGIN:STANDARD
RRULE:FREQ=YEARLY;BYMONTH=11;BYDAY=1SU
DTSTART:20070101T000000
TZOFFSETFROM:-0500
TZOFFSETTO:-0600
TZNAME:Central Standard Time
END:STANDARD
END:VTIMEZONE
BEGIN:VEVENT
DTSTART;TZID=America/Chicago:20260424T173000
DTEND;TZID=America/Chicago:20260424T190000
X-MICROSOFT-CDO-ALLDAYEVENT:FALSE
SUMMARY:Ribbon Cutting and Scholarship Ceremony| Money Concepts
DESCRIPTION:Money Concepts has expaned. Ribbon Cutting for new expansion. Scholarship Ceremony to follow. Light refreshments\, drinks\, and swag.
X-ALT-DESC;FMTTYPE=text/html:Money Concepts has expaned. Ribbon Cutting for new expansion. Scholarship Ceremony to follow. Light refreshments\, drinks\, and swag.
LOCATION:100 CENTER DRIVE Del Rio TX 78840
UID:e.3437.1424646
SEQUENCE:3
DTSTAMP:20260419T125837Z
URL:https://business.exploredelrio.com/chamber-calendar/Details/ribbon-cutting-and-scholarship-ceremony-money-concepts-1684469?sourceTypeId=Hub
END:VEVENT
END:VCALENDAR
