BEGIN:VCALENDAR
VERSION:2.0
PRODID:-//ChamberMaster//Event Calendar 2.0//EN
METHOD:PUBLISH
X-PUBLISHED-TTL:P1H
REFRESH-INTERVAL:P1H
CALSCALE:GREGORIAN
BEGIN:VTIMEZONE
TZID:America/Chicago
BEGIN:DAYLIGHT
RRULE:FREQ=YEARLY;BYMONTH=3;BYDAY=2SU
DTSTART:20070101T000000
TZOFFSETFROM:-0600
TZOFFSETTO:-0500
TZNAME:Central Daylight Time
END:DAYLIGHT
BEGIN:STANDARD
RRULE:FREQ=YEARLY;BYMONTH=11;BYDAY=1SU
DTSTART:20070101T000000
TZOFFSETFROM:-0500
TZOFFSETTO:-0600
TZNAME:Central Standard Time
END:STANDARD
END:VTIMEZONE
BEGIN:VEVENT
DTSTART;TZID=America/Chicago:20260418T080057
DTEND;TZID=America/Chicago:20260418T170057
X-MICROSOFT-CDO-ALLDAYEVENT:FALSE
SUMMARY:Golfing Fore A Cause
DESCRIPTION:CASA Val Verde County (Court Appointed Special Advocates for Children)   presents Golfing Fore A Cause!\n\n$125/ person-team of 4 (breakfast and lunch included)\nSilent Auction\nPayout is based on 18 tam entry!
X-ALT-DESC;FMTTYPE=text/html:CASA Val Verde County (Court Appointed Special Advocates for Children)   presents Golfing Fore A Cause!\n\n$125/ person-team of 4 (breakfast and lunch included)\nSilent Auction\nPayout is based on 18 tam entry!
LOCATION:1524 US-90 Del Rio TX 78840
UID:e.3437.1431103
SEQUENCE:3
DTSTAMP:20260419T125019Z
URL:https://business.exploredelrio.com/chamber-calendar/Details/golfing-fore-a-cause-1693601?sourceTypeId=Hub
END:VEVENT
END:VCALENDAR
