BEGIN:VCALENDAR
VERSION:2.0
PRODID:-//ChamberMaster//Event Calendar 2.0//EN
METHOD:PUBLISH
X-PUBLISHED-TTL:P1H
REFRESH-INTERVAL:P1H
CALSCALE:GREGORIAN
BEGIN:VTIMEZONE
TZID:America/Chicago
BEGIN:DAYLIGHT
RRULE:FREQ=YEARLY;BYMONTH=3;BYDAY=2SU
DTSTART:20070101T000000
TZOFFSETFROM:-0600
TZOFFSETTO:-0500
TZNAME:Central Daylight Time
END:DAYLIGHT
BEGIN:STANDARD
RRULE:FREQ=YEARLY;BYMONTH=11;BYDAY=1SU
DTSTART:20070101T000000
TZOFFSETFROM:-0500
TZOFFSETTO:-0600
TZNAME:Central Standard Time
END:STANDARD
END:VTIMEZONE
BEGIN:VEVENT
DTSTART;TZID=America/Chicago:20260504T160000
DTEND;TZID=America/Chicago:20260504T220000
X-MICROSOFT-CDO-ALLDAYEVENT:FALSE
SUMMARY:Cinco De Mayo - George Mercado Band and Rocio Guerrero Band
DESCRIPTION:
X-ALT-DESC;FMTTYPE=text/html:
LOCATION:305 Cantu St Del Rio TX 78840
UID:e.3437.1425643
SEQUENCE:3
DTSTAMP:20260419T130322Z
URL:https://business.exploredelrio.com/chamber-calendar/Details/cinco-de-mayo-george-mercado-band-and-rocio-guerrero-band-1685747?sourceTypeId=Hub
END:VEVENT
END:VCALENDAR
