BEGIN:VCALENDAR
VERSION:2.0
PRODID:-//ChamberMaster//Event Calendar 2.0//EN
METHOD:PUBLISH
X-PUBLISHED-TTL:P1H
REFRESH-INTERVAL:P1H
CALSCALE:GREGORIAN
BEGIN:VTIMEZONE
TZID:America/Chicago
BEGIN:DAYLIGHT
RRULE:FREQ=YEARLY;BYMONTH=3;BYDAY=2SU
DTSTART:20070101T000000
TZOFFSETFROM:-0600
TZOFFSETTO:-0500
TZNAME:Central Daylight Time
END:DAYLIGHT
BEGIN:STANDARD
RRULE:FREQ=YEARLY;BYMONTH=11;BYDAY=1SU
DTSTART:20070101T000000
TZOFFSETFROM:-0500
TZOFFSETTO:-0600
TZNAME:Central Standard Time
END:STANDARD
END:VTIMEZONE
BEGIN:VEVENT
DTSTART;TZID=America/Chicago:20260408T120000
DTEND;TZID=America/Chicago:20260408T130000
X-MICROSOFT-CDO-ALLDAYEVENT:FALSE
SUMMARY:Chamber Member Luncheon April
DESCRIPTION:Have Lunch with fellow Chamber members and hear a guest speaker that will interest you and our community every second Wednesday of the month at noon in the Ramada Sunblossom Room. Chamber members\, as well as prospective members\, are invited to attend. A buffet will be available at the attendee's own expense.12pm in the Ramada Sunblossom Room
X-ALT-DESC;FMTTYPE=text/html:<!DOCTYPE html><html><head><title></title></head><body aria-disabled="false"><p><span style="font-family: Arial\, Helvetica\, sans-serif\; font-size: 18px\;">Have Lunch with fellow Chamber members and hear a guest speaker that will interest you and our community every second Wednesday of the month at noon in the Ramada Sunblossom Room.&nbsp\;</span></p><div style='overflow-wrap: break-word\; margin-top: 0.5em\; margin-inline: 0px\; margin-bottom: 0px\; font-family: "Segoe UI Historic"\, "Segoe UI"\, Helvetica\, Arial\, sans-serif\; color: rgb(8\, 8\, 9)\; font-size: 15px\; font-style: normal\; font-variant-ligatures: normal\; font-variant-caps: normal\; font-weight: 400\; letter-spacing: normal\; orphans: 2\; text-align: start\; text-indent: 0px\; text-transform: none\; widows: 2\; word-spacing: 0px\; -webkit-text-stroke-width: 0px\; white-space: normal\; background-color: rgb(255\, 255\, 255)\; text-decoration-thickness: initial\; text-decoration-style: initial\; text-decoration-color: initial\;'><span style="font-size: 18px\;"><span style="font-family: Arial\,Helvetica\,sans-serif\;">Chamber members\, as well as prospective members\, are invited to attend. A buffet will be available at the attendee&rsquo\;s own expense.</span></span></div><div style='overflow-wrap: break-word\; margin-top: 0.5em\; margin-inline: 0px\; margin-bottom: 0px\; font-family: "Segoe UI Historic"\, "Segoe UI"\, Helvetica\, Arial\, sans-serif\; color: rgb(8\, 8\, 9)\; font-size: 15px\; font-style: normal\; font-variant-ligatures: normal\; font-variant-caps: normal\; font-weight: 400\; letter-spacing: normal\; orphans: 2\; text-align: start\; text-indent: 0px\; text-transform: none\; widows: 2\; word-spacing: 0px\; -webkit-text-stroke-width: 0px\; white-space: normal\; background-color: rgb(255\, 255\, 255)\; text-decoration-thickness: initial\; text-decoration-style: initial\; text-decoration-color: initial\;'><span style="font-family: Arial\, Helvetica\, sans-serif\; font-size: 18px\;">12pm in the Ramada Sunblossom Room</span></div><p><br></p></body></html>
LOCATION:2101 Veterans Blvd. Del Rio TX 78840
UID:e.3437.1430969
SEQUENCE:3
DTSTAMP:20260419T125232Z
URL:https://business.exploredelrio.com/chamber-calendar/Details/chamber-member-luncheon-april-1693449?sourceTypeId=Hub
END:VEVENT
END:VCALENDAR
