BEGIN:VCALENDAR
VERSION:2.0
PRODID:-//ChamberMaster//Event Calendar 2.0//EN
METHOD:PUBLISH
X-PUBLISHED-TTL:P1H
REFRESH-INTERVAL:P1H
CALSCALE:GREGORIAN
BEGIN:VTIMEZONE
TZID:America/Chicago
BEGIN:DAYLIGHT
RRULE:FREQ=YEARLY;BYMONTH=3;BYDAY=2SU
DTSTART:20070101T000000
TZOFFSETFROM:-0600
TZOFFSETTO:-0500
TZNAME:Central Daylight Time
END:DAYLIGHT
BEGIN:STANDARD
RRULE:FREQ=YEARLY;BYMONTH=11;BYDAY=1SU
DTSTART:20070101T000000
TZOFFSETFROM:-0500
TZOFFSETTO:-0600
TZNAME:Central Standard Time
END:STANDARD
END:VTIMEZONE
BEGIN:VEVENT
DTSTART;TZID=America/Chicago:20260601T210000
DTEND;TZID=America/Chicago:20260731T150000
X-MICROSOFT-CDO-ALLDAYEVENT:FALSE
SUMMARY:Camp Air
DESCRIPTION:Big Air Del Rio hosts Camp Airf!\nArts & Crafts\nFund Education Group Activities\, Team Building & More\n\nFree Camp Air shirt and jump socks\nSnacks\nLucnch provided
X-ALT-DESC;FMTTYPE=text/html:Big Air Del Rio hosts Camp Airf!\nArts & Crafts\nFund Education Group Activities\, Team Building & More\n\nFree Camp Air shirt and jump socks\nSnacks\nLucnch provided
LOCATION:501 E 6th Street Del Rio TX 78840
UID:e.3437.1431117
SEQUENCE:3
DTSTAMP:20260419T124940Z
URL:https://business.exploredelrio.com/chamber-calendar/Details/camp-air-1693615?sourceTypeId=Hub
END:VEVENT
END:VCALENDAR
