BEGIN:VCALENDAR
VERSION:2.0
PRODID:-//ChamberMaster//Event Calendar 2.0//EN
METHOD:PUBLISH
X-PUBLISHED-TTL:P1H
REFRESH-INTERVAL:P1H
CALSCALE:GREGORIAN
BEGIN:VTIMEZONE
TZID:America/Chicago
BEGIN:DAYLIGHT
RRULE:FREQ=YEARLY;BYMONTH=3;BYDAY=2SU
DTSTART:20070101T000000
TZOFFSETFROM:-0600
TZOFFSETTO:-0500
TZNAME:Central Daylight Time
END:DAYLIGHT
BEGIN:STANDARD
RRULE:FREQ=YEARLY;BYMONTH=11;BYDAY=1SU
DTSTART:20070101T000000
TZOFFSETFROM:-0500
TZOFFSETTO:-0600
TZNAME:Central Standard Time
END:STANDARD
END:VTIMEZONE
BEGIN:VEVENT
DTSTART;TZID=America/Chicago:20260326T170000
DTEND;TZID=America/Chicago:20260326T190000
X-MICROSOFT-CDO-ALLDAYEVENT:FALSE
SUMMARY:Business After Hours Mixer - City of Del Rio Spark Lab
DESCRIPTION:Have a fun relaxed evening networking with other business leaders in Del Rio\, TX during our Business After Hours Mixer. Bring your business cards\, promotionals\, and name tag to network. Food\, drinks and door prizes throughout the night\, as well as a military class welcome. Feel free to donate a door prize from your place of business. Location to be announced
X-ALT-DESC;FMTTYPE=text/html:Have a fun relaxed evening networking with other business leaders in Del Rio\, TX during our Business After Hours Mixer. Bring your business cards\, promotionals\, and name tag to network. Food\, drinks and door prizes throughout the night\, as well as a military class welcome. Feel free to donate a door prize from your place of business. Location to be announced
LOCATION:100 West Ogden St Del Rio TX 78840
UID:e.3437.1347996
SEQUENCE:3
DTSTAMP:20260420T101512Z
URL:https://business.exploredelrio.com/chamber-calendar/Details/business-after-hours-mixer-city-of-del-rio-spark-lab-1585069?sourceTypeId=Hub
END:VEVENT
END:VCALENDAR
